BEGIN:VCALENDAR
VERSION:2.0
PRODID:-//IQM Group - ECPv6.15.20//NONSGML v1.0//EN
CALSCALE:GREGORIAN
METHOD:PUBLISH
X-WR-CALNAME:IQM Group
X-ORIGINAL-URL:https://iqmgroup.org
X-WR-CALDESC:Events for IQM Group
REFRESH-INTERVAL;VALUE=DURATION:PT1H
X-Robots-Tag:noindex
X-PUBLISHED-TTL:PT1H
BEGIN:VTIMEZONE
TZID:Pacific/Auckland
BEGIN:STANDARD
TZOFFSETFROM:+1300
TZOFFSETTO:+1200
TZNAME:NZST
DTSTART:20250405T140000
END:STANDARD
BEGIN:DAYLIGHT
TZOFFSETFROM:+1200
TZOFFSETTO:+1300
TZNAME:NZDT
DTSTART:20250927T140000
END:DAYLIGHT
BEGIN:STANDARD
TZOFFSETFROM:+1300
TZOFFSETTO:+1200
TZNAME:NZST
DTSTART:20260404T140000
END:STANDARD
BEGIN:DAYLIGHT
TZOFFSETFROM:+1200
TZOFFSETTO:+1300
TZNAME:NZDT
DTSTART:20260926T140000
END:DAYLIGHT
BEGIN:STANDARD
TZOFFSETFROM:+1300
TZOFFSETTO:+1200
TZNAME:NZST
DTSTART:20270403T140000
END:STANDARD
BEGIN:DAYLIGHT
TZOFFSETFROM:+1200
TZOFFSETTO:+1300
TZNAME:NZDT
DTSTART:20270925T140000
END:DAYLIGHT
END:VTIMEZONE
BEGIN:VEVENT
DTSTART;VALUE=DATE:20260520
DTEND;VALUE=DATE:20260521
DTSTAMP:20260423T223255
CREATED:20260110T220248Z
LAST-MODIFIED:20260110T220248Z
UID:10000031-1779235200-1779321599@iqmgroup.org
SUMMARY:ISO 42001:2023 Artificial Intelligence Management System Foundations Course
DESCRIPTION:Do you want to understand the ISO 42001 Artificial Intelligence Management system?\nThis one-day course covers the main clauses of ISO 42001:2023 Artificial Intelligence Management System (AIMS) and looks at how the standard differs from ISO 27001 for Information Security. The objective of the course is for course participants to gain a foundational knowledge of ISO 42001 and covers the unique aspects of the importance of trust\, transparency\, and reliability in AI. \nLocation: Level 3\, 81 Grafton Road\, Auckland 1010\, New Zealand \n\nInternationally recognised Certificate of Competence from Exemplar Global\nSmall groups to ensure maximum tutor student interaction\nAll our tutors are certified practicing Lead Auditors\nAll course materials provided\nCoffee on arrival then morning tea\, lunch and afternoon tea provided\nTo book email mieke@IQMStrategies.com\, or call +64 (0) 274520510 or book online www.iqmgroup.org/book-online
URL:https://iqmgroup.org/event/iso-420012023-artificial-intelligence-management-system-foundations-course-4/
LOCATION:Auckland\, Auckland\, New Zealand
CATEGORIES:Artificial Intelligence Management System
END:VEVENT
BEGIN:VEVENT
DTSTART;VALUE=DATE:20260722
DTEND;VALUE=DATE:20260723
DTSTAMP:20260423T223255
CREATED:20260110T220344Z
LAST-MODIFIED:20260110T220516Z
UID:10000032-1784678400-1784764799@iqmgroup.org
SUMMARY:ISO 42001:2023 Artificial Intelligence Management System Foundations Course
DESCRIPTION:Do you want to understand the ISO 42001 Artificial Intelligence Management system?\nThis one-day course covers the main clauses of ISO 42001:2023 Artificial Intelligence Management System (AIMS) and looks at how the standard differs from ISO 27001 for Information Security. The objective of the course is for course participants to gain a foundational knowledge of ISO 42001 and covers the unique aspects of the importance of trust\, transparency\, and reliability in AI. \nLocation: Level 3\, 81 Grafton Road\, Auckland 1010\, New Zealand \n\nInternationally recognised Certificate of Competence from Exemplar Global\nSmall groups to ensure maximum tutor student interaction\nAll our tutors are certified practicing Lead Auditors\nAll course materials provided\nCoffee on arrival then morning tea\, lunch and afternoon tea provided\nTo book email mieke@IQMStrategies.com\, or call +64 (0) 274520510 or book online www.iqmgroup.org/book-online
URL:https://iqmgroup.org/event/iso-420012023-artificial-intelligence-management-system-foundations-course-5/
LOCATION:Auckland\, Auckland\, New Zealand
CATEGORIES:Artificial Intelligence Management System
END:VEVENT
BEGIN:VEVENT
DTSTART;VALUE=DATE:20260923
DTEND;VALUE=DATE:20260924
DTSTAMP:20260423T223255
CREATED:20260110T220625Z
LAST-MODIFIED:20260110T220625Z
UID:10000033-1790121600-1790207999@iqmgroup.org
SUMMARY:ISO 42001:2023 Artificial Intelligence Management System Foundations Course
DESCRIPTION:Do you want to understand the ISO 42001 Artificial Intelligence Management system?\nThis one-day course covers the main clauses of ISO 42001:2023 Artificial Intelligence Management System (AIMS) and looks at how the standard differs from ISO 27001 for Information Security. The objective of the course is for course participants to gain a foundational knowledge of ISO 42001 and covers the unique aspects of the importance of trust\, transparency\, and reliability in AI. \nLocation: Level 3\, 81 Grafton Road\, Auckland 1010\, New Zealand \n\nInternationally recognised Certificate of Competence from Exemplar Global\nSmall groups to ensure maximum tutor student interaction\nAll our tutors are certified practicing Lead Auditors\nAll course materials provided\nCoffee on arrival then morning tea\, lunch and afternoon tea provided\nTo book email mieke@IQMStrategies.com\, or call +64 (0) 274520510 or book online www.iqmgroup.org/book-online
URL:https://iqmgroup.org/event/iso-420012023-artificial-intelligence-management-system-foundations-course-6/
LOCATION:Auckland\, Auckland\, New Zealand
CATEGORIES:Artificial Intelligence Management System
END:VEVENT
BEGIN:VEVENT
DTSTART;VALUE=DATE:20261118
DTEND;VALUE=DATE:20261119
DTSTAMP:20260423T223255
CREATED:20260110T220708Z
LAST-MODIFIED:20260110T220708Z
UID:10000034-1794960000-1795046399@iqmgroup.org
SUMMARY:ISO 42001:2023 Artificial Intelligence Management System Foundations Course
DESCRIPTION:Do you want to understand the ISO 42001 Artificial Intelligence Management system?\nThis one-day course covers the main clauses of ISO 42001:2023 Artificial Intelligence Management System (AIMS) and looks at how the standard differs from ISO 27001 for Information Security. The objective of the course is for course participants to gain a foundational knowledge of ISO 42001 and covers the unique aspects of the importance of trust\, transparency\, and reliability in AI. \nLocation: Level 3\, 81 Grafton Road\, Auckland 1010\, New Zealand \n\nInternationally recognised Certificate of Competence from Exemplar Global\nSmall groups to ensure maximum tutor student interaction\nAll our tutors are certified practicing Lead Auditors\nAll course materials provided\nCoffee on arrival then morning tea\, lunch and afternoon tea provided\nTo book email mieke@IQMStrategies.com\, or call +64 (0) 274520510 or book online www.iqmgroup.org/book-online
URL:https://iqmgroup.org/event/iso-420012023-artificial-intelligence-management-system-foundations-course-7/
LOCATION:Auckland\, Auckland\, New Zealand
CATEGORIES:Artificial Intelligence Management System
END:VEVENT
END:VCALENDAR