BEGIN:VCALENDAR
VERSION:2.0
PRODID:-//IQM Group - ECPv6.15.20//NONSGML v1.0//EN
CALSCALE:GREGORIAN
METHOD:PUBLISH
X-ORIGINAL-URL:https://iqmgroup.org
X-WR-CALDESC:Events for IQM Group
REFRESH-INTERVAL;VALUE=DURATION:PT1H
X-Robots-Tag:noindex
X-PUBLISHED-TTL:PT1H
BEGIN:VTIMEZONE
TZID:Pacific/Auckland
BEGIN:STANDARD
TZOFFSETFROM:+1300
TZOFFSETTO:+1200
TZNAME:NZST
DTSTART:20250405T140000
END:STANDARD
BEGIN:DAYLIGHT
TZOFFSETFROM:+1200
TZOFFSETTO:+1300
TZNAME:NZDT
DTSTART:20250927T140000
END:DAYLIGHT
BEGIN:STANDARD
TZOFFSETFROM:+1300
TZOFFSETTO:+1200
TZNAME:NZST
DTSTART:20260404T140000
END:STANDARD
BEGIN:DAYLIGHT
TZOFFSETFROM:+1200
TZOFFSETTO:+1300
TZNAME:NZDT
DTSTART:20260926T140000
END:DAYLIGHT
BEGIN:STANDARD
TZOFFSETFROM:+1300
TZOFFSETTO:+1200
TZNAME:NZST
DTSTART:20270403T140000
END:STANDARD
BEGIN:DAYLIGHT
TZOFFSETFROM:+1200
TZOFFSETTO:+1300
TZNAME:NZDT
DTSTART:20270925T140000
END:DAYLIGHT
END:VTIMEZONE
BEGIN:VEVENT
DTSTART;VALUE=DATE:20260331
DTEND;VALUE=DATE:20260402
DTSTAMP:20260422T041759
CREATED:20260110T222131Z
LAST-MODIFIED:20260110T222131Z
UID:10000040-1774915200-1775087999@iqmgroup.org
SUMMARY:Internal Auditor - Information Security Management Systems (ISO 27001)
DESCRIPTION:Auditing information security management systems ensures effective performance and identifies where improvements exist.  \nThis is a practical two-day course providing the knowledge and confidence needed to complete effective internal audits against an Information Security Management System (ISMS).  Successful students receive an Exemplar Global Certificate of Competence as an ISMS 1st and 2nd Party Auditor. \nLearning Outcomes \n\nManaging 1st party internal audits of an ISMS\nConducting internal audit opening and closing meetings\nEnhanced interviewing techniques\nHow to collect objective information\nRelating findings to ISO 27001:2022 conformance\nPreparing reports that help management improve Information Security systems and performance\nHow to conduct 2nd party audits on suppliers and customers\n\nCourse Foundation \nISO 19011:2018 – Guidelines for auditing management systems. The principles apply equally to any management systems and case studies to illustrate this are used throughout the course. \nCourse prerequisite\nA working knowledge of ISO 27001:2022 and/or Information Security Management Systems is helpful (but not essential) for students of this course. \nCourse Fees Include \nTuition\, morning tea\, lunch and afternoon tea (depending on course times)\, and all course notes and take-home reference materials. \nALL Prices EXCLUDE GST \nCourse Tutor \nIntroduction to IQM Group \nKiwi owned and operated since 1983\, IQM’s international team of experienced people help companies realise their potential and improve their business effectiveness. \nIQM pride themselves on their strong commitment to work with clients professionally\, honestly\, ethically and with integrity. Your tutor is a current and competent ISO 27001:2013 and ISO 27001:2022 Lead Auditor and has worked with a wide range of organisations\, with a wealth of experience and knowledge in this field. The number of participants for each course is restricted to ensure a trainer / student ratio that will facilitate effective training outcomes. \n\nTerms and Conditions \nFor Telarc Training Services Terms and Conditions please click HERE \nTelarc Training Services Privacy Policy \nFor Telarc Training Services Privacy Policy please click HERE
URL:https://iqmgroup.org/event/internal-auditor-information-security-management-systems-iso-27001/
LOCATION:Auckland\, Auckland\, New Zealand
CATEGORIES:Internal Auditor - Information Security Management Systems
END:VEVENT
END:VCALENDAR